BEGIN:VCALENDAR
VERSION:2.0
PRODID:-//玖珠町観光協会 - ECPv6.15.20//NONSGML v1.0//EN
CALSCALE:GREGORIAN
METHOD:PUBLISH
X-ORIGINAL-URL:https://kusumachi.jp
X-WR-CALDESC:玖珠町観光協会 のイベント
REFRESH-INTERVAL;VALUE=DURATION:PT1H
X-Robots-Tag:noindex
X-PUBLISHED-TTL:PT1H
BEGIN:VTIMEZONE
TZID:UTC
BEGIN:STANDARD
TZOFFSETFROM:+0000
TZOFFSETTO:+0000
TZNAME:UTC
DTSTART:20230101T000000
END:STANDARD
END:VTIMEZONE
BEGIN:VEVENT
DTSTART;TZID=UTC:20251206T143000
DTEND;TZID=UTC:20251206T190000
DTSTAMP:20260420T053626
CREATED:20251128T084801Z
LAST-MODIFIED:20251128T085001Z
UID:4149-1765031400-1765047600@kusumachi.jp
SUMMARY:恒例のサンタイベントに「花火」が初登場！「空からサンタといっしょに花火」開催決定！
DESCRIPTION:玖珠町の冬を彩る恒例行事「空からサンタがやってきたフェスティバル」が、今年はさらにパワーアップして開催されます！ \nなんと、今回はサンタのイベントと花火の打ち上げが初めて同時開催されます。昼間はステージや屋台を楽しみ、夕方にはサンタからのプレゼントを受け取り、そして夜はサンタとともに夜空を見上げる、特別な一日をお届けします。 \n皆さまと一緒に、楽しいひとときを分かち合えるイベントです。この記念すべき初の「サンタと花火」イベントに、ぜひお越しください！ \n開催日時：令和7年12月6日（土）14:30〜19:00 \n開催場所：玖珠川河川敷会場 \n主な内容：各種ステージイベント、お祭り屋台多数出店、こいのぼりなど \n🎁 15:00〜 恒例！「空からサンタがやってきたフェスティバル」\n毎年人気のサンタさんからのプレゼント配布を実施します。 \n\n\n対象： 小学生までのお子様（数量限定） \n\n\n🎇 18:00〜 【今回初！】「花火打ち上げ」\n恒例のサンタイベントに、迫力満点の花火が初登場！約1時間にわたり、玖珠の夜空を美しく彩ります。 \n🎤 14:30〜 各種ステージイベント\n地元を盛り上げるパフォーマンスが目白押し！ \n\n\n山路祭り、久留島太鼓、古後神楽、ダンス、深夜アキ変面ショーなど、多彩なゲストが登場します。 \n\n\n皆さまのご来場を心よりお待ちしております。 \n協賛情報 \n \n\n【お問い合わせ先】 \n玖珠町観光協会 \nTEL：0973-72-1313
URL:https://kusumachi.jp/event/sorakarasantatohanabi/
LOCATION:玖珠川河川敷会場
CATEGORIES:空からサンタ
ATTACH;FMTTYPE=image/jpeg:https://kusumachi.jp/wp-content/uploads/2025/11/サンタと花火折込広告2025.jpg
END:VEVENT
BEGIN:VEVENT
DTSTART;TZID=UTC:20250928T000000
DTEND;TZID=UTC:20250928T000000
DTSTAMP:20260420T053626
CREATED:20250912T034004Z
LAST-MODIFIED:20250912T034004Z
UID:4056-1759017600-1759017600@kusumachi.jp
SUMMARY:山下岩戸楽2025年9月28日
DESCRIPTION:江戸時代から伝わる「山下岩戸楽」を奉納します。この「楽」は、天和2年（1682年）に日田の西有田村から伝えられたと言われており、五穀豊穣と国家安泰を祈願するもので昭和46年に大分県指定無形民俗文化財に指定されております。\n【開催日】９月２８日（日）\n（神事）１４：００～\n山下岩戸楽は、\n１４：３０に山下老人憩いの家を出発\n１５：３０ごろに神社到着予定です。\n【場所】山下大御神社（山下中の原）\n【お問合先】 : 山下岩戸楽保存会 会長　後藤\n０９０ー８３９６ー４６４８
URL:https://kusumachi.jp/event/yamashitaiwatogaku20250928/
LOCATION:山下大御神社（山下中の原）\, 玖珠町山下\, 玖珠郡\, 大分県\, 879-4522
CATEGORIES:山下岩戸楽
ATTACH;FMTTYPE=image/jpeg:https://kusumachi.jp/wp-content/uploads/2025/09/山下岩戸楽.jpg
END:VEVENT
BEGIN:VEVENT
DTSTART;TZID=UTC:20250810T160000
DTEND;TZID=UTC:20250810T213000
DTSTAMP:20260420T053626
CREATED:20250709T021715Z
LAST-MODIFIED:20250808T040926Z
UID:3932-1754841600-1754861400@kusumachi.jp
SUMMARY:第45回「童話の里」夏まつり2025年8月10日『雨の為中止』
DESCRIPTION:第45回 「童話の里」夏まつり 開催予定のお知らせ\n毎年恒例となっております、玖珠町観光協会主催の「童話の里」夏まつりは、 \n令和7年8月10日（日） に第45回目の開催を予定しております。 \n本町に脈々と受け継がれてきた伝統文化・芸能は、過疎化・高齢化・少子化といった社会的課題により、その存続が危ぶまれております。 \nこのような状況の中で、地域の未来を見据え、伝統を守り、次世代へとつなげていくためにも、本夏まつりを大切な機会と捉え、皆様のお力添えを賜りながら準備を進めてまいります。 \nこれまでご支援いただいております皆様に心より感謝申し上げますとともに、 \n本大会の趣旨にご理解・ご賛同いただき、今後ともご協賛を賜りますようお願い申し上げます。 \n皆様の温かいご支援が、玖珠町の夏を彩る大きな力となります。 \n【童話の里夏まつり 中止のお知らせ】 \n8月10日に開催を予定しておりました「童話の里夏まつり」は、天候不良の予報を受け、やむを得ず中止とさせていただくこととなりました。 \n楽しみにしてくださっていた皆さま、そして準備にご協力いただいていた関係者の皆さまにとっても、とても残念なお知らせとなってしまいました。\n安全を第一に考えたうえでの判断となりますので、どうかご理解いただけますと幸いです。 \nなお、翌日への順延は行いませんが、花火の打ち上げにつきましては、別日程での開催を調整中です。日程が決まり次第、改めてご案内いたします。 \n皆さまと一緒に、楽しいひとときを分かち合える機会が再び訪れることを願っております。 \n\n【お問い合わせ先】 \n玖珠町観光協会 \nTEL：0973-72-1313
URL:https://kusumachi.jp/event/douwanosatonatumaturi2025/
LOCATION:協心橋周辺（玖珠町）\, 玖珠町（協心橋周辺）\, 玖珠郡\, 大分県\, 879-4403\, 日本
CATEGORIES:「童話の里」夏まつり
ATTACH;FMTTYPE=image/jpeg:https://kusumachi.jp/wp-content/uploads/2025/08/夏祭り中止のお知らせ.jpg
END:VEVENT
BEGIN:VEVENT
DTSTART;VALUE=DATE:20250518
DTEND;VALUE=DATE:20250519
DTSTAMP:20260420T053626
CREATED:20250417T073538Z
LAST-MODIFIED:20250515T072345Z
UID:3805-1747526400-1747612799@kusumachi.jp
SUMMARY:第76回 万年山山開き2025年
DESCRIPTION:毎年春、大分県玖珠郡玖珠町にて開催される「万年山山開き」は、地元の人々や登山愛好家にとって待望のイベントです。 \n雄大な自然と美しい景観で知られる万年山（はねやま）は、新緑の季節にその真価を発揮します。 \n山開きのイベントでは、登山道の安全祈願と環境保護を目的とした神事が行われます。 \n万年山の頂上からは、玖珠町の広大な風景が一望でき、自然の美しさの中でお弁当を広げて満喫することができます。 \n初心者から経験豊富な登山者まで、幅広い層が楽しめるこのイベントは、体力に自信のない方でも参加しやすいコースが用意されており、ファミリーでの参加も大歓迎です。 \n自然との触れ合いや地域交流を深めることができる「万年山山開き」に、ぜひお越しください。春の爽やかな風と共に、忘れられないひとときをお楽しみください。 \n【交通について】\n当日は周辺道路にて交通規制がございます。\nお越しの際は、事前に交通情報をご確認のうえ、時間に余裕を持ってお出かけください。\nまた、駐車場には限りがありますので、乗り合わせでの来場にご協力をお願いいたします。 \n交通規制情報はこちらをクリックしご確認ください \n【環境保全協力金について】\n本イベントでは、自然環境の維持・保全活動のために**環境保全協力金（¥５００）をお願いしております。\n皆さまの温かいご協力を心よりお願いいたします。 \n※雨天予報の為17日の環境保全協力金の実施は行いません。18日予定しておりました山開きの神事は吉武台駐車場付近で行います \ninstagram : tourismkusu \n道の駅童話の里くすから万年山登山口までのルートをご案内 \n▶︎吉武台登山口へのルート \n▶︎はなぐり登山口へのルート
URL:https://kusumachi.jp/event/haneyamayamabiraki_20250518/
LOCATION:万年山\, 大分県玖珠郡玖珠町山田\, 879-4412\, 日本
CATEGORIES:万年山山開き
ATTACH;FMTTYPE=image/jpeg:https://kusumachi.jp/wp-content/uploads/2025/05/万年山山開き2025.jpg
END:VEVENT
BEGIN:VEVENT
DTSTART;VALUE=DATE:20250406
DTEND;VALUE=DATE:20250407
DTSTAMP:20260420T053626
CREATED:20250401T064644Z
LAST-MODIFIED:20250401T065337Z
UID:3727-1743897600-1743983999@kusumachi.jp
SUMMARY:かまどが岩春の大祭2025年4月6日
DESCRIPTION:玖珠町古後地区の春の恒例行事、「かまどが岩春の大祭」は、自然と伝統が融合する地元ならではのお祭りです。 \n戦国時代の末、天下に名をとどろかせた豪勇、後藤又兵衛が大阪夏の陣に敗れ、かつての中津藩時代の愛人を尋ねここにひそかに隠れ住み、時期が来るのを待っていたと言われています。玖珠町大字古後の山中にある、入口が7mもある自然の洞窟です。\n古後神楽や式典（護摩焚き）、手作りのだんご汁のお接待などが行われます。\n今回あわせて、古後マルシェ（旧古後中学校校舎）車で約５分の位置で開催予定していますので、違った形でお祭りを楽しむことができると思います。\nみなさん、是非古後へおこしください。\n【開催日】４月６日（日）\n式典：１０：００～\nイベント：１２：００〜 \n【場所】玖珠町古後地区 \n\n\n【お問合先】 : かまどが岩整備委員会 会長 横山\n０９０ー１１６９ー９２０８
URL:https://kusumachi.jp/event/kamadogaiwaharunotaisai2025/
LOCATION:かまどヶ岩公園\, 古後長田\, 玖珠郡玖珠町\, 大分県\, Japan
CATEGORIES:かまどが岩祭り
ATTACH;FMTTYPE=image/jpeg:https://kusumachi.jp/wp-content/uploads/2025/04/10498.jpg
END:VEVENT
BEGIN:VEVENT
DTSTART;VALUE=DATE:20241213
DTEND;VALUE=DATE:20241216
DTSTAMP:20260420T053626
CREATED:20241202T021945Z
LAST-MODIFIED:20241202T021945Z
UID:3641-1734048000-1734307199@kusumachi.jp
SUMMARY:Kusu X'mas Market 「クスクリ」2024年12月13日・14日・15日
DESCRIPTION:Kusu X’mas Marketクスクリ　同時開催「神楽奉納」「空からサンタがやってきたフェスティバル」を行います。\n三日月の滝公園・嵐山瀧神社敷地内でワークショップ・ジャンボこいのぼりくぐり抜けやスタンプラリーでわくわく体験・クスクリ期間中は三日月の滝ライトアップ、庄内神楽奉納、鷹匠による体験、そしてそしてサザンガーデン横の田んぼでは、空からサンタがやってきます、空からやってきたサンタさんが、地上で待っている子供たちにプレゼントを配ります。\n小動物とのふれあいも楽しめたくさんのキッチンカーなどが集まり、おいしいものが大集合。(^^)/今年の冬は「クスクリ」で一緒に過ごしましょう！ \n【日時】2024年12月13日〜15日\n⚫︎13日(金) 16:00〜20:00\n⚫︎14日(土)・15日(日) 11:00〜20:00\n【会場】三日月の滝公園\n玖珠郡玖珠町山浦115-1 \n【お問合先】玖珠町観光協会\n０９７３−７２−１３１３
URL:https://kusumachi.jp/event/kusu_xmas_market2024/
LOCATION:三日月の滝公園\, 玖珠町山浦115-1\, 玖珠郡\, 大分県\, Japan
CATEGORIES:クスクリ
ATTACH;FMTTYPE=image/jpeg:https://kusumachi.jp/wp-content/uploads/2024/12/kusukuri.jpg
END:VEVENT
BEGIN:VEVENT
DTSTART;VALUE=DATE:20241103
DTEND;VALUE=DATE:20241104
DTSTAMP:20260420T053626
CREATED:20241029T061642Z
LAST-MODIFIED:20241029T061642Z
UID:3518-1730592000-1730678399@kusumachi.jp
SUMMARY:かまどが岩秋祭り2024年11月3日
DESCRIPTION:玖珠町古後地区の秋の恒例行事、「かまどが岩秋祭り」は、自然と伝統が融合する地元ならではのお祭りです。古後にそびえる「かまどが岩」のふもとで開催され、豊かな自然に囲まれたこの地で、秋の収穫を祝います。 \n祭りでは、地元の特産品販売、伝統的な音楽、郷土料理の振る舞いなどが楽しめ、訪れる人々に季節の彩りを感じてもらえます。子供から大人まで楽しめるイベントとなっております、地域の方との交流を通して心温まるひとときを過ごせます。 \n【開催日】１１月３日（日）\n式典：１０：００～ \n【場所】玖珠町古後地区 \n◆ 古後神楽奉納\n◆ 大正琴演奏\n◆ アカナツ演奏\n◆ 豪傑鍋の接待\n◆ 出店販売などあり \n\n\n【お問合先】 : かまどが岩整備委員会 会長 横山\n０９０ー１１６９ー９２０８
URL:https://kusumachi.jp/event/kamadogaiwaakimatsuri2024/
LOCATION:古後大御神社\, 古後\, 玖珠郡玖珠町\, 大分県\, 8794523
CATEGORIES:かまどが岩祭り
ATTACH;FMTTYPE=image/jpeg:https://kusumachi.jp/wp-content/uploads/2024/10/かまどが岩秋祭り2024秋.jpg
END:VEVENT
BEGIN:VEVENT
DTSTART;TZID=UTC:20241013T100000
DTEND;TZID=UTC:20241013T160000
DTSTAMP:20260420T053626
CREATED:20240930T023824Z
LAST-MODIFIED:20240930T023824Z
UID:3435-1728813600-1728835200@kusumachi.jp
SUMMARY:第21回 機関庫まつり 2024年10月13日
DESCRIPTION:令和6年10月13日（日）に、第21回機関庫まつりを開催いたします！当日は、飲食コーナーや体験コーナー、ミニSL・ミニ電車の運行会、ステージイベントなど、子どもから大人まで楽しめる催しが盛りだくさんです。また、自衛隊などの特殊車両展示やジャンボこいのぼりくぐりも見どころです。ぜひご家族やお友達と一緒にご参加ください！ \n【開催日時】令和6年10月13日（日） 10:00〜16:00 \n【場所】旧豊後森機関庫公園 \n\n【お問合先】 : 玖珠町商工会\n０９７３－７２－１２１１ \n玖珠町商工会
URL:https://kusumachi.jp/event/kikankomatsuri20241013/
LOCATION:旧豊後森機関庫公園\, 大分県玖珠郡玖珠町岩室242-7\, 879-4405
CATEGORIES:機関庫まつり
ATTACH;FMTTYPE=image/jpeg:https://kusumachi.jp/wp-content/uploads/2024/09/kikankomatsuri2024.jpg
END:VEVENT
BEGIN:VEVENT
DTSTART;TZID=UTC:20240915T130000
DTEND;TZID=UTC:20240915T150000
DTSTAMP:20260420T053626
CREATED:20240831T041655Z
LAST-MODIFIED:20240831T042036Z
UID:3399-1726405200-1726412400@kusumachi.jp
SUMMARY:山下岩戸楽2024年9月15日
DESCRIPTION:江戸時代から伝わる「山下岩戸楽」を奉納します。この「楽」は、天和2年（1682年）に日田の西有田村から伝えられたと言われており、五穀豊穣と国家安泰を祈願するもので昭和46年に大分県指定無形民俗文化財に指定されております。\n【開催日】９月１５日（日）\n（神事）１３：００～\n山下岩戸楽は、\n１４：００に山下老人憩いの家を出発\n１４：３０ごろに神社到着予定です。\n【場所】山下大御神社（山下中の原）\n【お問合先】 : 山下岩戸楽保存会 会長　後藤\n０９７３－７２－５２８７
URL:https://kusumachi.jp/event/yamashitaiwatogaku20240915/
LOCATION:山下大御神社（山下中の原）\, 玖珠町山下\, 玖珠郡\, 大分県\, 879-4522
CATEGORIES:山下岩戸楽
ATTACH;FMTTYPE=image/jpeg:https://kusumachi.jp/wp-content/uploads/2024/08/yamashitaiwatogaku2024.jpg
END:VEVENT
BEGIN:VEVENT
DTSTART;TZID=UTC:20240824T180000
DTEND;TZID=UTC:20240825T220000
DTSTAMP:20260420T053626
CREATED:20240821T030833Z
LAST-MODIFIED:20240821T031019Z
UID:3336-1724522400-1724623200@kusumachi.jp
SUMMARY:「塚脇地蔵講」2024年8月24日・25日
DESCRIPTION:無病息災・疫病退散 \nお地蔵さんに願いを込めて百三十六年 \n令和6年8月24日（土）・25日（日）\n18:00〜22:00\n【24日】\n◆地蔵供養祭（式典）\n◆お茶席\n【両日】\n◆路上ライブ \n地蔵講お祭り広場（くすふれあい公園）\nビール・各種フード出店\n同時開催：塚脇地蔵講フェス\n18:30〜21:00\n【24日】\nくすのきこども園／アカナツ／TIARE DANCE TEAM \n【25日】\n祇園お囃子／u.w.u dance school／パフォーマーhatch \n【主催】塚脇地蔵講実行委員会・塚脇町内会 \n【後援】玖珠町・玖珠町観光協会・玖珠町商工会玖珠支部・塚脇にぎわいの道協議会
URL:https://kusumachi.jp/event/%e3%80%8c%e5%a1%9a%e8%84%87%e5%9c%b0%e8%94%b5%e8%ac%9b%e3%80%8d2024%e5%b9%b48%e6%9c%8824%e6%97%a5%e3%83%bb25%e6%97%a5/
CATEGORIES:塚脇地蔵講
ATTACH;FMTTYPE=image/jpeg:https://kusumachi.jp/wp-content/uploads/2024/08/tsukawakijizoukou2024.jpg
END:VEVENT
BEGIN:VEVENT
DTSTART;VALUE=DATE:20240811
DTEND;VALUE=DATE:20240812
DTSTAMP:20260420T053626
CREATED:20240703T055203Z
LAST-MODIFIED:20240723T023034Z
UID:3295-1723334400-1723420799@kusumachi.jp
SUMMARY:第44回「童話の里」夏まつり2024年8月11日
DESCRIPTION:例年行われています、「童話の里」夏まつりは、令和６年８月１１日（日）行事を行う予定です。 \n内容は、現在協議中です。\n本町の保存・継承を続けていくべき伝統文化・芸能は、過疎・高齢化・少子化等の問題により、存続の危機に直面いたしています。 \nさらに長期展望の上、関係各位のご協力のもと出来うる限りの支援の体制を図りたいと考えています。\nこれまでご支援いただいております皆様方に改めて感謝申し上げますとともに、大変恐縮ではございますが、本大会の趣旨をご理解・ご賛同いただき玖珠町を盛り上げるため、ご協賛賜りますようお願い申し上げます。 \n【お問合先】玖珠町観光協会　０９７３-７２-１３１３
URL:https://kusumachi.jp/event/douwanosatonatumaturi2024/
LOCATION:協心橋周辺（玖珠町）\, 玖珠町（協心橋周辺）\, 玖珠郡\, 大分県\, 879-4403\, 日本
CATEGORIES:「童話の里」夏まつり
ATTACH;FMTTYPE=image/jpeg:https://kusumachi.jp/wp-content/uploads/2024/07/natumatsuri2024.jpg
END:VEVENT
BEGIN:VEVENT
DTSTART;VALUE=DATE:20240720
DTEND;VALUE=DATE:20240721
DTSTAMP:20260420T053626
CREATED:20240703T053753Z
LAST-MODIFIED:20240703T053753Z
UID:3283-1721433600-1721519999@kusumachi.jp
SUMMARY:第21回「玖珠祇園大祭」令和6年7月20日
DESCRIPTION:〈日時〉令和6年7月20日　(土） 17時ごろ～22時\n〈会場〉協心橋周辺（玖珠町）\n\n玖珠町３地区4つの祇園が集結。\n迫力ある山車の巡行と、ソーラン踊り、フードコートなど会場は熱気に包まれます。\n\n【お問合先】：玖珠祇園大祭実行委員会　０９０－３０７８－４３４１ \nInstagram @kusu_giontaisai 
URL:https://kusumachi.jp/event/kusugiontaisai2024/
LOCATION:協心橋周辺（玖珠町）\, 玖珠町（協心橋周辺）\, 玖珠郡\, 大分県\, 879-4403\, 日本
CATEGORIES:玖珠祇園大祭
ATTACH;FMTTYPE=image/jpeg:https://kusumachi.jp/wp-content/uploads/2024/07/kusugiontaisai2024.jpg
END:VEVENT
BEGIN:VEVENT
DTSTART;TZID=UTC:20240519T080000
DTEND;TZID=UTC:20240519T143000
DTSTAMP:20260420T053626
CREATED:20240501T054920Z
LAST-MODIFIED:20240530T060024Z
UID:3119-1716105600-1716129000@kusumachi.jp
SUMMARY:第75回 万年山山開き2024年
DESCRIPTION:毎年春、大分県玖珠郡玖珠町にて開催される「万年山山開き」は、地元の人々や登山愛好家にとって待望のイベントです。 \n雄大な自然と美しい景観で知られる万年山（はねやま）は、新緑の季節にその真価を発揮します。 \n山開きのイベントでは、登山道の安全祈願と環境保護を目的とした神事が行われます。 \n万年山の頂上からは、玖珠町の広大な風景が一望でき、自然の美しさの中でお弁当を広げて満喫することができます。 \n初心者から経験豊富な登山者まで、幅広い層が楽しめるこのイベントは、体力に自信のない方でも参加しやすいコースが用意されており、ファミリーでの参加も大歓迎です。 \n自然との触れ合いや地域交流を深めることができる「万年山山開き」に、ぜひお越しください。春の爽やかな風と共に、忘れられないひとときをお楽しみください。 \n  \ninstagram : kusumachi.kanko
URL:https://kusumachi.jp/event/haneyamayamabiraki_20240519/
LOCATION:万年山\, 大分県玖珠郡玖珠町山田\, 879-4412\, 日本
CATEGORIES:万年山山開き
ATTACH;FMTTYPE=image/jpeg:https://kusumachi.jp/wp-content/uploads/2024/04/haneyama_yamabiraki2024.jpg
END:VEVENT
END:VCALENDAR